BEGIN:VCALENDAR
VERSION:2.0
PRODID:-//Atlantic Books - ECPv6.8.3//NONSGML v1.0//EN
CALSCALE:GREGORIAN
METHOD:PUBLISH
X-WR-CALNAME:Atlantic Books
X-ORIGINAL-URL:https://atlanticbooks.ca
X-WR-CALDESC:Events for Atlantic Books
REFRESH-INTERVAL;VALUE=DURATION:PT1H
X-Robots-Tag:noindex
X-PUBLISHED-TTL:PT1H
BEGIN:VTIMEZONE
TZID:America/Halifax
BEGIN:DAYLIGHT
TZOFFSETFROM:-0400
TZOFFSETTO:-0300
TZNAME:ADT
DTSTART:20220313T060000
END:DAYLIGHT
BEGIN:STANDARD
TZOFFSETFROM:-0300
TZOFFSETTO:-0400
TZNAME:AST
DTSTART:20221106T050000
END:STANDARD
TZID:America/St_Johns
BEGIN:DAYLIGHT
TZOFFSETFROM:-0330
TZOFFSETTO:-0230
TZNAME:NDT
DTSTART:20220313T053000
END:DAYLIGHT
BEGIN:STANDARD
TZOFFSETFROM:-0230
TZOFFSETTO:-0330
TZNAME:NST
DTSTART:20221106T043000
END:STANDARD
TZID:America/Moncton
BEGIN:DAYLIGHT
TZOFFSETFROM:-0400
TZOFFSETTO:-0300
TZNAME:ADT
DTSTART:20220313T060000
END:DAYLIGHT
BEGIN:STANDARD
TZOFFSETFROM:-0300
TZOFFSETTO:-0400
TZNAME:AST
DTSTART:20221106T050000
END:STANDARD
END:VTIMEZONE
BEGIN:VEVENT
DTSTART;TZID=America/Halifax:20220113T130000
DTEND;TZID=America/Halifax:20220407T140000
DTSTAMP:20260422T104307
CREATED:20220203T025025Z
LAST-MODIFIED:20220204T025319Z
UID:44687-1642078800-1649340000@atlanticbooks.ca
SUMMARY:Imagining the North in Canadian Literature
DESCRIPTION:ENGL 2463: Imagining the North in Canadian Literature with Renée Hulan \n—— \nThe class is currently being offered online\, but may switch to in-person later in the term. Register on the SMU website: https://studio.smu.ca/librarycourses \nThis course unsettles the representation of Canada as “true north” in literature and culture. By studying northern historiography and reading selected literary works depicting the Canadian North\, we will see how the imagined North has changed over time.  \nThe readings will include selections by Inuit and other northern Indigenous peoples\, and the examination will be presented in relation to important contemporary topics\, such as Arctic sovereignty\, climate change\, and Indigenous knowledge. \n—— \nUniversity Classes for Everyone\, presented by Saint Mary’s University and Halifax Public Libraries\, encourages you to explore lifelong learning – for free! \nhttps://www.facebook.com/events/289739843191011/?event_time_id=289741199857542
URL:https://atlanticbooks.ca/events/imagining-the-north-in-canadian-literature
LOCATION:Halifax\, Nova Scotia
ATTACH;FMTTYPE=image/jpeg:https://atlanticbooks.ca/wp-content/uploads/2022/02/44687_image_271715388_10158404618387057_2491863541745132198_n.jpg
END:VEVENT
BEGIN:VEVENT
DTSTART;TZID=America/St_Johns:20220215T190000
DTEND;TZID=America/St_Johns:20220322T203000
DTSTAMP:20260422T104307
CREATED:20220211T025323Z
LAST-MODIFIED:20220217T025332Z
UID:45571-1644951600-1647981000@atlanticbooks.ca
SUMMARY:Writing Real Life: A Non-Fiction Writing Course for NL Youth
DESCRIPTION:Have you ever wanted to write up a meaningful story from your own life or someone else’s? \nHave you ever wondered how to publish an article that brings readers up to speed on a subject you’re passionate about or convinces them to agree with your opinion on a hot-button topic? \nIn this FREE six-week course\, you’ll learn the basics of four types of non-fiction writing – personal narrative\, opinion\, expository\, and interview – and how to get that writing published. \nParticipants will come out of the course with the skills they need to write for Artforce’s next anthology\, On the Edge: Being Young in a Precarious Province. \nInstructor Ainsley Hawthorn\, PhD\, is an author and cultural historian based in St. John’s. She writes for CBC\, blogs for Psychology Today\, and edited the critically acclaimed anthology Land of Many Shores: Perspectives from a Diverse Newfoundland and Labrador. \nClasses will be held online over ZoomTuesday evenings 7:00-8:30 p.m. Newfoundland time February 15 – March 22 \nOpen to residents of Newfoundland and Labrador ages 18 to 30. \nE-mail ainsley.hawthorn@aya.yale.edu to register. \nPresented by Artforce NL and the Writers’ Alliance of Newfoundland and Labrador. \nhttps://www.facebook.com/events/244844611171426/?event_time_id=244863344502886
URL:https://atlanticbooks.ca/events/writing-real-life-a-non-fiction-writing-course-for-nl-youth
LOCATION:Online event
ATTACH;FMTTYPE=image/jpeg:https://atlanticbooks.ca/wp-content/uploads/2022/02/45571_image_273659749_10159802810808556_8963947884707590745_n-3.jpg
END:VEVENT
BEGIN:VEVENT
DTSTART;TZID=America/St_Johns:20220215T190000
DTEND;TZID=America/St_Johns:20220322T203000
DTSTAMP:20260422T104307
CREATED:20220211T025329Z
LAST-MODIFIED:20220224T025337Z
UID:45575-1644951600-1647981000@atlanticbooks.ca
SUMMARY:Writing Real Life: A Non-Fiction Writing Course for NL Youth
DESCRIPTION:Have you ever wanted to write up a meaningful story from your own life or someone else’s? \nHave you ever wondered how to publish an article that brings readers up to speed on a subject you’re passionate about or convinces them to agree with your opinion on a hot-button topic? \nIn this FREE six-week course\, you’ll learn the basics of four types of non-fiction writing – personal narrative\, opinion\, expository\, and interview – and how to get that writing published. \nParticipants will come out of the course with the skills they need to write for Artforce’s next anthology\, On the Edge: Being Young in a Precarious Province. \nInstructor Ainsley Hawthorn\, PhD\, is an author and cultural historian based in St. John’s. She writes for CBC\, blogs for Psychology Today\, and edited the critically acclaimed anthology Land of Many Shores: Perspectives from a Diverse Newfoundland and Labrador. \nClasses will be held online over ZoomTuesday evenings 7:00-8:30 p.m. Newfoundland time February 15 – March 22 \nOpen to residents of Newfoundland and Labrador ages 18 to 30. \nE-mail ainsley.hawthorn@aya.yale.edu to register. \nPresented by Artforce NL and the Writers’ Alliance of Newfoundland and Labrador. \nhttps://www.facebook.com/events/244844611171426/?event_time_id=244863347836219
URL:https://atlanticbooks.ca/events/writing-real-life-a-non-fiction-writing-course-for-nl-youth-2
LOCATION:Online event
ATTACH;FMTTYPE=image/jpeg:https://atlanticbooks.ca/wp-content/uploads/2022/02/45575_image_273659749_10159802810808556_8963947884707590745_n-5.jpg
END:VEVENT
BEGIN:VEVENT
DTSTART;TZID=America/St_Johns:20220215T190000
DTEND;TZID=America/St_Johns:20220322T203000
DTSTAMP:20260422T104307
CREATED:20220211T025336Z
LAST-MODIFIED:20220303T025320Z
UID:45580-1644951600-1647981000@atlanticbooks.ca
SUMMARY:Writing Real Life: A Non-Fiction Writing Course for NL Youth
DESCRIPTION:Have you ever wanted to write up a meaningful story from your own life or someone else’s? \nHave you ever wondered how to publish an article that brings readers up to speed on a subject you’re passionate about or convinces them to agree with your opinion on a hot-button topic? \nIn this FREE six-week course\, you’ll learn the basics of four types of non-fiction writing – personal narrative\, opinion\, expository\, and interview – and how to get that writing published. \nParticipants will come out of the course with the skills they need to write for Artforce’s next anthology\, On the Edge: Being Young in a Precarious Province. \nInstructor Ainsley Hawthorn\, PhD\, is an author and cultural historian based in St. John’s. She writes for CBC\, blogs for Psychology Today\, and edited the critically acclaimed anthology Land of Many Shores: Perspectives from a Diverse Newfoundland and Labrador. \nClasses will be held online over ZoomTuesday evenings 7:00-8:30 p.m. Newfoundland time February 15 – March 22 \nOpen to residents of Newfoundland and Labrador ages 18 to 30. \nE-mail ainsley.hawthorn@aya.yale.edu to register. \nPresented by Artforce NL and the Writers’ Alliance of Newfoundland and Labrador. \nhttps://www.facebook.com/events/244844611171426/?event_time_id=244863341169553
URL:https://atlanticbooks.ca/events/writing-real-life-a-non-fiction-writing-course-for-nl-youth-3
LOCATION:Online event
ATTACH;FMTTYPE=image/jpeg:https://atlanticbooks.ca/wp-content/uploads/2022/02/45580_image_273659749_10159802810808556_8963947884707590745_n.jpg
END:VEVENT
BEGIN:VEVENT
DTSTART;TZID=America/Moncton:20220301T000000
DTEND;TZID=America/Moncton:20220301T040000
DTSTAMP:20260422T104307
CREATED:20220209T025404Z
LAST-MODIFIED:20220302T025319Z
UID:45489-1646092800-1646107200@atlanticbooks.ca
SUMMARY:Concours provincial de création littéraire | Provincial Creative Writing Contest
DESCRIPTION:*English will follow \n✒️ À vos plumes! Le ???????????????????????????????? ???????????????????????????????????????? ???????? ????????????́???????????????????? ????????????????????́???????????????????? du Festival Frye est une occasion en or pour les jeunes de la 9e à la 12e année de parfaire leur écriture et d’être lu·es par un jury de professionnel·les.  \n✍ Comment participer : \n???? Écrivez une nouvelle (de 600 à 800 mots) ou un poème (de 150 à 300 mots). ???? Envoyez-le nous avant le 1er mars 2022. \nLe jury sélectionnera trois finalistes dans chaque catégorie et dans chaque langue. Tous les prix sont accompagnés d’une bourse en argent :  \n???? ???????????? ???????????????? : ???????????? $???? ???????? ???????????????? : ???????????? $???? ???????? ???????????????? : ???????????? $ \nEn plus\, toutes les écoles dont les jeunes participent feront partie d’un tirage au sort pour remporter un chèque cadeau d’une valeur de 500 $ pour l’achat de livres chez nos librairies partenaires. \nTous les détails sur le concours sont disponible sur notre site web à https://www.frye.ca/concoursdecriture-writingcontest. \n***************************************************************** \n✒️ Pens at the ready! The Frye Festival’s ???????????????????????????????????????? ???????????????????????????????? ???????????????????????????? ???????????????????????????? is the ideal opportunity for students in Grade 9 to 12 to refine their skills and to be read by a professional jury.  \n✍ How to participate: \n???? Write a short story (600 to 800 words) or a poem (150 to 300 words).???? Submit your text before March 1st\, 2022. \nA professional jury will select three finalists in each category and in each language. Each prize comes with a bursary: \n???? ???????????? ????????????????????: $ ???????????????? ???????????? ????????????????????: $ ???????????????? ???????????? ????????????????????: $ ???????????? \nOn top of that\, every school with participating students will be entered in a draw to win a $ 500 gift card in order to purchase books from one of our partner bookstores.  \nMore details on the contest can be found on our website at https://www.frye.ca/concoursdecriture-writingcontest?lang=en. \nPhoto: Olivia Pedneault-Doucet \nhttps://www.facebook.com/events/1140266970067405/
URL:https://atlanticbooks.ca/events/concours-provincial-de-creation-litteraire-provincial-creative-writing-contest
LOCATION:Fredericton\, New Brunswick
ATTACH;FMTTYPE=image/jpeg:https://atlanticbooks.ca/wp-content/uploads/2022/02/45489_image_272950409_10158169496301035_8792927891165340179_n.jpg
END:VEVENT
END:VCALENDAR